BEGIN:VCALENDAR
VERSION:2.0
PRODID:-//St Peter&#039;s Fulham - ECPv6.15.20//NONSGML v1.0//EN
CALSCALE:GREGORIAN
METHOD:PUBLISH
X-ORIGINAL-URL:http://stpetersfulham.co.uk
X-WR-CALDESC:Events for St Peter&#039;s Fulham
REFRESH-INTERVAL;VALUE=DURATION:PT1H
X-Robots-Tag:noindex
X-PUBLISHED-TTL:PT1H
BEGIN:VTIMEZONE
TZID:Europe/London
BEGIN:DAYLIGHT
TZOFFSETFROM:+0000
TZOFFSETTO:+0100
TZNAME:BST
DTSTART:20200329T010000
END:DAYLIGHT
BEGIN:STANDARD
TZOFFSETFROM:+0100
TZOFFSETTO:+0000
TZNAME:GMT
DTSTART:20201025T010000
END:STANDARD
BEGIN:DAYLIGHT
TZOFFSETFROM:+0000
TZOFFSETTO:+0100
TZNAME:BST
DTSTART:20210328T010000
END:DAYLIGHT
BEGIN:STANDARD
TZOFFSETFROM:+0100
TZOFFSETTO:+0000
TZNAME:GMT
DTSTART:20211031T010000
END:STANDARD
BEGIN:DAYLIGHT
TZOFFSETFROM:+0000
TZOFFSETTO:+0100
TZNAME:BST
DTSTART:20220327T010000
END:DAYLIGHT
BEGIN:STANDARD
TZOFFSETFROM:+0100
TZOFFSETTO:+0000
TZNAME:GMT
DTSTART:20221030T010000
END:STANDARD
BEGIN:DAYLIGHT
TZOFFSETFROM:+0000
TZOFFSETTO:+0100
TZNAME:BST
DTSTART:20230326T010000
END:DAYLIGHT
BEGIN:STANDARD
TZOFFSETFROM:+0100
TZOFFSETTO:+0000
TZNAME:GMT
DTSTART:20231029T010000
END:STANDARD
BEGIN:DAYLIGHT
TZOFFSETFROM:+0000
TZOFFSETTO:+0100
TZNAME:BST
DTSTART:20240331T010000
END:DAYLIGHT
BEGIN:STANDARD
TZOFFSETFROM:+0100
TZOFFSETTO:+0000
TZNAME:GMT
DTSTART:20241027T010000
END:STANDARD
END:VTIMEZONE
BEGIN:VEVENT
DTSTART;TZID=Europe/London:20231225T100000
DTEND;TZID=Europe/London:20231225T113000
DTSTAMP:20260419T145743
CREATED:20231117T135018Z
LAST-MODIFIED:20231117T135018Z
UID:12038-1703498400-1703503800@stpetersfulham.co.uk
SUMMARY:Christmas Day Service
DESCRIPTION:Join us to celebrate Christmas Day at our all-age celebration. \nService starts at 10am.
URL:http://stpetersfulham.co.uk/event/christmas-day-service-3/
LOCATION:St Peter’s Fulham\, St Peter's Church\, London\, Greater London\, SW6 7JS\, United Kingdom
CATEGORIES:Adults,Children,Christmas,Families,Men,Mums,Women
ATTACH;FMTTYPE=image/png:http://stpetersfulham.co.uk/wp-content/uploads/2023/11/ANNUAL-vISION-dINNER-2.png
END:VEVENT
BEGIN:VEVENT
DTSTART;TZID=Europe/London:20231224T100000
DTEND;TZID=Europe/London:20231224T113000
DTSTAMP:20260419T145743
CREATED:20231117T134822Z
LAST-MODIFIED:20231117T134822Z
UID:12036-1703412000-1703417400@stpetersfulham.co.uk
SUMMARY:Carols around the Tree
DESCRIPTION:Join us for our services this Christmas!  \nCarols around the tree – all welcome. \nJoin us for a fun family service full of games\, songs and a way to find out more about Christmas
URL:http://stpetersfulham.co.uk/event/carols-around-the-tree-2/
LOCATION:St Peter’s Fulham\, St Peter's Church\, London\, Greater London\, SW6 7JS\, United Kingdom
CATEGORIES:Adults,Children,Christmas,Church Services,Families,Men,Mums,Women,Youth
ATTACH;FMTTYPE=image/png:http://stpetersfulham.co.uk/wp-content/uploads/2023/11/ANNUAL-vISION-dINNER-2.png
END:VEVENT
BEGIN:VEVENT
DTSTART;TZID=Europe/London:20231217T193000
DTEND;TZID=Europe/London:20231217T213000
DTSTAMP:20260419T145743
CREATED:20231117T135225Z
LAST-MODIFIED:20231117T135316Z
UID:12040-1702841400-1702848600@stpetersfulham.co.uk
SUMMARY:Alternative Carols
DESCRIPTION:A contemporary take on traditional carols
URL:http://stpetersfulham.co.uk/event/alternative-carols-2/
LOCATION:St Peter’s Fulham\, St Peter's Church\, London\, Greater London\, SW6 7JS\, United Kingdom
CATEGORIES:Adults,Christmas,Church Services,Men,Women,Youth
ATTACH;FMTTYPE=image/png:http://stpetersfulham.co.uk/wp-content/uploads/2023/11/ANNUAL-vISION-dINNER-2.png
END:VEVENT
BEGIN:VEVENT
DTSTART;TZID=Europe/London:20231217T100000
DTEND;TZID=Europe/London:20231217T113000
DTSTAMP:20260419T145743
CREATED:20231117T134454Z
LAST-MODIFIED:20231117T134454Z
UID:12032-1702807200-1702812600@stpetersfulham.co.uk
SUMMARY:Family Carols
DESCRIPTION:Join us on Sunday at 10 am for our Family Carols\,\n \nA carol service suitable fir families and children! \nIf you’d like more details about how we are complying with government policy and advice please get in touch
URL:http://stpetersfulham.co.uk/event/family-carols-2/
LOCATION:St Peter’s Fulham\, St Peter's Church\, London\, Greater London\, SW6 7JS\, United Kingdom
CATEGORIES:Adults,Children,Christmas,Church Services,Families,Men,Mums,Women,Youth
ATTACH;FMTTYPE=image/png:http://stpetersfulham.co.uk/wp-content/uploads/2023/11/ANNUAL-vISION-dINNER-2.png
END:VEVENT
BEGIN:VEVENT
DTSTART;TZID=Europe/London:20231210T193000
DTEND;TZID=Europe/London:20231210T210000
DTSTAMP:20260419T145743
CREATED:20231117T131108Z
LAST-MODIFIED:20231117T131712Z
UID:12018-1702236600-1702242000@stpetersfulham.co.uk
SUMMARY:Carols by Candlelight
DESCRIPTION:Join us this Sunday at 7:30pm for our Carols by Candlelight\,\n \nA traditional service of lessons and Carols. Followed by minced pies and mulled wine! \nIf you’d like more details about how we are complying with government policy and advice please get in touch
URL:http://stpetersfulham.co.uk/event/carols-by-candlelight/
LOCATION:St Peter’s Fulham\, St Peter's Church\, London\, Greater London\, SW6 7JS\, United Kingdom
CATEGORIES:Adults,Christmas,Church Services,Men,Women,Youth
ATTACH;FMTTYPE=image/png:http://stpetersfulham.co.uk/wp-content/uploads/2023/11/ANNUAL-vISION-dINNER-2.png
END:VEVENT
BEGIN:VEVENT
DTSTART;TZID=Europe/London:20231209T150000
DTEND;TZID=Europe/London:20231209T170000
DTSTAMP:20260419T145743
CREATED:20231117T133606Z
LAST-MODIFIED:20231117T134127Z
UID:12029-1702134000-1702141200@stpetersfulham.co.uk
SUMMARY:Nativity Trail
DESCRIPTION:Join us on Saturday from 3pm to 5pm for Nativity Trail. \nAn indoor interactive nativity trail for families. \nBrilliant fun for under 11s and their families with  games\, fire pit & marshmallows\, sweets and more! \nTrail lasts around 20 minutes.
URL:http://stpetersfulham.co.uk/event/nativity-trail-2/
LOCATION:St Peter’s Fulham\, St Peter's Church\, London\, Greater London\, SW6 7JS\, United Kingdom
CATEGORIES:Children,Christmas,Families,Men,Mums,Women
ATTACH;FMTTYPE=image/png:http://stpetersfulham.co.uk/wp-content/uploads/2023/11/ANNUAL-vISION-dINNER-3-1.png
END:VEVENT
BEGIN:VEVENT
DTSTART;TZID=Europe/London:20231203T110000
DTEND;TZID=Europe/London:20231203T123000
DTSTAMP:20260419T145743
CREATED:20231117T132955Z
LAST-MODIFIED:20231117T133302Z
UID:12023-1701601200-1701606600@stpetersfulham.co.uk
SUMMARY:Nativity Service
DESCRIPTION:Join us on Sunday at 11 am for our Nativity Service\,\n \nCome dressed as an angel\, wise man\, animal or shephers. \nFollowed by minced pies and mulled wine for adults! \nIf you’d like more details about how we are complying with government policy and advice please get in touch
URL:http://stpetersfulham.co.uk/event/nativity-service-2/
LOCATION:St Peter’s Fulham\, St Peter's Church\, London\, Greater London\, SW6 7JS\, United Kingdom
CATEGORIES:Children,Christmas,Church Services,Families,Men,Mums,Women,Youth
ATTACH;FMTTYPE=image/png:http://stpetersfulham.co.uk/wp-content/uploads/2023/11/ANNUAL-vISION-dINNER-3.png
END:VEVENT
BEGIN:VEVENT
DTSTART;TZID=Europe/London:20211225T100000
DTEND;TZID=Europe/London:20211225T110000
DTSTAMP:20260419T145743
CREATED:20211221T161417Z
LAST-MODIFIED:20211221T161604Z
UID:7597-1640426400-1640430000@stpetersfulham.co.uk
SUMMARY:Christmas Day Service
DESCRIPTION:Join us to celebrate Christmas Day at our all-age celebration. \nService starts at 10am.
URL:http://stpetersfulham.co.uk/event/christmas-day-service/
LOCATION:St Peter’s Fulham\, St Peter's Church\, London\, Greater London\, SW6 7JS\, United Kingdom
CATEGORIES:Adults,Children,Christmas,Church Services,Families,Men,Women,Youth
ATTACH;FMTTYPE=image/png:http://stpetersfulham.co.uk/wp-content/uploads/2021/03/St-Peters-Fulham-Church-logo-watercolour-square-1024.png
END:VEVENT
BEGIN:VEVENT
DTSTART;TZID=Europe/London:20211224T150000
DTEND;TZID=Europe/London:20211224T170000
DTSTAMP:20260419T145743
CREATED:20211128T171903Z
LAST-MODIFIED:20211128T171903Z
UID:5996-1640358000-1640365200@stpetersfulham.co.uk
SUMMARY:Carols Around the Tree
DESCRIPTION:Join us for our services this Christmas!  \nCarols around the tree – all welcome. \nJoin us for a fun family service full of games\, songs and a way to find out more about Christmas \nStart at 3pm followed by mulled wine and mince pies after the service and craft for the children.
URL:http://stpetersfulham.co.uk/event/carols-around-the-tree/
LOCATION:St Peter’s Fulham\, St Peter's Church\, London\, Greater London\, SW6 7JS\, United Kingdom
CATEGORIES:Adults,Children,Christmas,Church Services,Families,Men,Mums,Women,Youth
ATTACH;FMTTYPE=image/jpeg:http://stpetersfulham.co.uk/wp-content/uploads/2021/03/St-Peters-Fulham-Church-logo-watercolour-hiQ-scaled.jpg
END:VEVENT
BEGIN:VEVENT
DTSTART;TZID=Europe/London:20211219T193000
DTEND;TZID=Europe/London:20211219T210000
DTSTAMP:20260419T145743
CREATED:20210309T160945Z
LAST-MODIFIED:20211216T183636Z
UID:4087-1639942200-1639947600@stpetersfulham.co.uk
SUMMARY:Carols by Candlelight Service
DESCRIPTION:Join us for our services this Christmas! \n\nTraditional service – all welcome.\n\nCome and join us to sing carols and celebrate Christmas together. A service of carols and lessons with a choir.\n\nStart at 7:30pm followed by mulled wine and mince pies after the service.
URL:http://stpetersfulham.co.uk/event/evening-service-2021-12-19/
LOCATION:St Peter’s Fulham\, St Peter's Church\, London\, Greater London\, SW6 7JS\, United Kingdom
CATEGORIES:Adults,Christmas,Church Services,Men,Women,Youth
ATTACH;FMTTYPE=image/jpeg:http://stpetersfulham.co.uk/wp-content/uploads/2017/01/st-peters-evening-service.jpg
END:VEVENT
BEGIN:VEVENT
DTSTART;TZID=Europe/London:20211212T193000
DTEND;TZID=Europe/London:20211212T210000
DTSTAMP:20260419T145743
CREATED:20210309T160945Z
LAST-MODIFIED:20211128T171000Z
UID:4086-1639337400-1639342800@stpetersfulham.co.uk
SUMMARY:Alternative Carol Service
DESCRIPTION:Join us for our services this Christmas! \n\nJoin to sing carols together to celebrate Christmas – all welcome.\n\nTraditional carols sang in a contemporary style.\n\nStart at 7:30pm followed by mulled wine and mince pies after the service.
URL:http://stpetersfulham.co.uk/event/evening-service-2021-12-12/
LOCATION:St Peter’s Fulham\, St Peter's Church\, London\, Greater London\, SW6 7JS\, United Kingdom
CATEGORIES:Adults,Christmas,Church Services,Men,Women,Youth
ATTACH;FMTTYPE=image/jpeg:http://stpetersfulham.co.uk/wp-content/uploads/2017/01/st-peters-evening-service.jpg
END:VEVENT
BEGIN:VEVENT
DTSTART;TZID=Europe/London:20211212T100000
DTEND;TZID=Europe/London:20211212T111500
DTSTAMP:20260419T145743
CREATED:20210309T123739Z
LAST-MODIFIED:20211128T170858Z
UID:5258-1639303200-1639307700@stpetersfulham.co.uk
SUMMARY:Christingle Service
DESCRIPTION:Join us for our services this Christmas! \n\nThe Christingle service – all welcome.\n\nCome and learn about Jesus and the true meaning of Christmas through songs and making a orange with different parts.\n\nStart at 10am followed by mulled wine and mince pies after the service.
URL:http://stpetersfulham.co.uk/event/childrens-service-2021-08-22-2021-12-12/
LOCATION:St Peter’s Fulham\, St Peter's Church\, London\, Greater London\, SW6 7JS\, United Kingdom
CATEGORIES:Adults,Children,Christmas,Church Services,Families,Men,Women,Youth
ATTACH;FMTTYPE=image/jpeg:http://stpetersfulham.co.uk/wp-content/uploads/2017/01/st-peters-morning-service.jpg
END:VEVENT
END:VCALENDAR