BEGIN:VCALENDAR
VERSION:2.0
PRODID:-//St Peter&#039;s Fulham - ECPv6.15.20//NONSGML v1.0//EN
CALSCALE:GREGORIAN
METHOD:PUBLISH
X-WR-CALNAME:St Peter&#039;s Fulham
X-ORIGINAL-URL:http://stpetersfulham.co.uk
X-WR-CALDESC:Events for St Peter&#039;s Fulham
REFRESH-INTERVAL;VALUE=DURATION:PT1H
X-Robots-Tag:noindex
X-PUBLISHED-TTL:PT1H
BEGIN:VTIMEZONE
TZID:Europe/London
BEGIN:DAYLIGHT
TZOFFSETFROM:+0000
TZOFFSETTO:+0100
TZNAME:BST
DTSTART:20200329T010000
END:DAYLIGHT
BEGIN:STANDARD
TZOFFSETFROM:+0100
TZOFFSETTO:+0000
TZNAME:GMT
DTSTART:20201025T010000
END:STANDARD
BEGIN:DAYLIGHT
TZOFFSETFROM:+0000
TZOFFSETTO:+0100
TZNAME:BST
DTSTART:20210328T010000
END:DAYLIGHT
BEGIN:STANDARD
TZOFFSETFROM:+0100
TZOFFSETTO:+0000
TZNAME:GMT
DTSTART:20211031T010000
END:STANDARD
BEGIN:DAYLIGHT
TZOFFSETFROM:+0000
TZOFFSETTO:+0100
TZNAME:BST
DTSTART:20220327T010000
END:DAYLIGHT
BEGIN:STANDARD
TZOFFSETFROM:+0100
TZOFFSETTO:+0000
TZNAME:GMT
DTSTART:20221030T010000
END:STANDARD
BEGIN:DAYLIGHT
TZOFFSETFROM:+0000
TZOFFSETTO:+0100
TZNAME:BST
DTSTART:20230326T010000
END:DAYLIGHT
BEGIN:STANDARD
TZOFFSETFROM:+0100
TZOFFSETTO:+0000
TZNAME:GMT
DTSTART:20231029T010000
END:STANDARD
BEGIN:DAYLIGHT
TZOFFSETFROM:+0000
TZOFFSETTO:+0100
TZNAME:BST
DTSTART:20240331T010000
END:DAYLIGHT
BEGIN:STANDARD
TZOFFSETFROM:+0100
TZOFFSETTO:+0000
TZNAME:GMT
DTSTART:20241027T010000
END:STANDARD
BEGIN:DAYLIGHT
TZOFFSETFROM:+0000
TZOFFSETTO:+0100
TZNAME:BST
DTSTART:20250330T010000
END:DAYLIGHT
BEGIN:STANDARD
TZOFFSETFROM:+0100
TZOFFSETTO:+0000
TZNAME:GMT
DTSTART:20251026T010000
END:STANDARD
END:VTIMEZONE
BEGIN:VEVENT
DTSTART;TZID=Europe/London:20240331T100000
DTEND;TZID=Europe/London:20240331T113000
DTSTAMP:20260423T115730
CREATED:20240305T235313Z
LAST-MODIFIED:20240328T145809Z
UID:12643-1711879200-1711884600@stpetersfulham.co.uk
SUMMARY:Easter Sunday Service
DESCRIPTION:All age Easter celebration \nFollowed by an Easter egg hunt
URL:http://stpetersfulham.co.uk/event/easter-sunday-service/
LOCATION:St Peter’s Fulham\, St Peter's Church\, London\, Greater London\, SW6 7JS\, United Kingdom
CATEGORIES:Adults,Children,Church Services,Easter,Families,Men,Mums,Women
ATTACH;FMTTYPE=image/png:http://stpetersfulham.co.uk/wp-content/uploads/2024/03/Easter-service-3.png
END:VEVENT
BEGIN:VEVENT
DTSTART;TZID=Europe/London:20240329T150000
DTEND;TZID=Europe/London:20240329T160000
DTSTAMP:20260423T115730
CREATED:20240305T235606Z
LAST-MODIFIED:20240305T235606Z
UID:12646-1711724400-1711728000@stpetersfulham.co.uk
SUMMARY:Good Friday Meditations
DESCRIPTION:Readings\, music\, silence and reflections on the crucifixion \nFollowed by hot cross buns \n(only suitable for 11+)
URL:http://stpetersfulham.co.uk/event/good-friday-meditations-2/
LOCATION:St Peter’s Fulham\, St Peter's Church\, London\, Greater London\, SW6 7JS\, United Kingdom
CATEGORIES:Adults,Easter,Men,Mums,Women,Youth
ATTACH;FMTTYPE=image/png:http://stpetersfulham.co.uk/wp-content/uploads/2024/03/Easter-service-1-e1709682945125.png
END:VEVENT
BEGIN:VEVENT
DTSTART;TZID=Europe/London:20240324T140000
DTEND;TZID=Europe/London:20240324T160000
DTSTAMP:20260423T115730
CREATED:20240305T235907Z
LAST-MODIFIED:20240305T235907Z
UID:12648-1711288800-1711296000@stpetersfulham.co.uk
SUMMARY:The Great Easter Hunt
DESCRIPTION:Come and help solve the mysterious case of the empty tomb! \n\nInteractive trail lasting about 30 mins \n\nFind out what Easter is all about! Fun\, games and chocolate eggs to be discovered!
URL:http://stpetersfulham.co.uk/event/the-great-easter-hunt/
LOCATION:St Peter’s Fulham\, St Peter's Church\, London\, Greater London\, SW6 7JS\, United Kingdom
CATEGORIES:Children,Easter,Families,Men,Mums,Women
ATTACH;FMTTYPE=image/png:http://stpetersfulham.co.uk/wp-content/uploads/2024/03/Easter-service-2-e1709683126126.png
END:VEVENT
BEGIN:VEVENT
DTSTART;TZID=Europe/London:20210404T100000
DTEND;TZID=Europe/London:20210404T110000
DTSTAMP:20260423T115730
CREATED:20210329T203208Z
LAST-MODIFIED:20210329T203208Z
UID:4219-1617530400-1617534000@stpetersfulham.co.uk
SUMMARY:Easter Sunday Morning Service
DESCRIPTION:
URL:http://stpetersfulham.co.uk/event/easter-sunday-morning-service/
LOCATION:St Peter’s Fulham\, St Peter's Church\, London\, Greater London\, SW6 7JS\, United Kingdom
CATEGORIES:Adults,Children,Church Services,Easter,Families,Men,Women,Youth
ATTACH;FMTTYPE=image/jpeg:http://stpetersfulham.co.uk/wp-content/uploads/2021/03/2021-Easter-Sunday-banner.jpg
END:VEVENT
BEGIN:VEVENT
DTSTART;TZID=Europe/London:20210402T150000
DTEND;TZID=Europe/London:20210402T160000
DTSTAMP:20260423T115730
CREATED:20210329T203500Z
LAST-MODIFIED:20210329T203500Z
UID:4223-1617375600-1617379200@stpetersfulham.co.uk
SUMMARY:Good Friday Meditation
DESCRIPTION:Readings\, music and meditations on the crucifixion.
URL:http://stpetersfulham.co.uk/event/good-friday-meditation/
LOCATION:St Peter’s Fulham\, St Peter's Church\, London\, Greater London\, SW6 7JS\, United Kingdom
CATEGORIES:Adults,Church Services,Easter,Men,Women,Youth
ATTACH;FMTTYPE=image/png:http://stpetersfulham.co.uk/wp-content/uploads/2021/03/Easter-flyer-2021-back.png
END:VEVENT
END:VCALENDAR